BEGIN:VCALENDAR
VERSION:2.0
PRODID:-//NABMA - ECPv6.15.20//NONSGML v1.0//EN
CALSCALE:GREGORIAN
METHOD:PUBLISH
X-ORIGINAL-URL:https://nabma.com
X-WR-CALDESC:Events for NABMA
REFRESH-INTERVAL;VALUE=DURATION:PT1H
X-Robots-Tag:noindex
X-PUBLISHED-TTL:PT1H
BEGIN:VTIMEZONE
TZID:Europe/London
BEGIN:DAYLIGHT
TZOFFSETFROM:+0000
TZOFFSETTO:+0100
TZNAME:BST
DTSTART:20210328T010000
END:DAYLIGHT
BEGIN:STANDARD
TZOFFSETFROM:+0100
TZOFFSETTO:+0000
TZNAME:GMT
DTSTART:20211031T010000
END:STANDARD
BEGIN:DAYLIGHT
TZOFFSETFROM:+0000
TZOFFSETTO:+0100
TZNAME:BST
DTSTART:20220327T010000
END:DAYLIGHT
BEGIN:STANDARD
TZOFFSETFROM:+0100
TZOFFSETTO:+0000
TZNAME:GMT
DTSTART:20221030T010000
END:STANDARD
BEGIN:DAYLIGHT
TZOFFSETFROM:+0000
TZOFFSETTO:+0100
TZNAME:BST
DTSTART:20230326T010000
END:DAYLIGHT
BEGIN:STANDARD
TZOFFSETFROM:+0100
TZOFFSETTO:+0000
TZNAME:GMT
DTSTART:20231029T010000
END:STANDARD
END:VTIMEZONE
BEGIN:VEVENT
DTSTART;TZID=Europe/London:20220623T100000
DTEND;TZID=Europe/London:20220623T130000
DTSTAMP:20260424T165452
CREATED:20220614T131010Z
LAST-MODIFIED:20220620T092417Z
UID:30533-1655978400-1655989200@nabma.com
SUMMARY:NABMA Midlands and Wales Regional Conference - Cancelled
DESCRIPTION:Unfortunately\, despite best efforts\, we have decided to cancel the Midlands and Wales Event on Thursday 23 June due to very low numbers as booked. This is very disappointing. \nWith the handful of bookings as received then cancellation was the only option. \nThe next Regional event is on 28 July and although having a focus on London and the South will be  available to all. We hope that NABMA members will support this next free event. \nYours sincerely\nDavid Preston (BA Hons)\nChief Executive\nThe National Association of British Market Authorities
URL:https://nabma.com/event/nabma-midlands-and-wales-regional-conference-free-zoom-event/
CATEGORIES:Virtual Meeting
ATTACH;FMTTYPE=image/jpeg:https://nabma.com/version2020/wp-content/uploads/2022/06/NABMAMidWales-scaled.jpg
END:VEVENT
END:VCALENDAR