BEGIN:VCALENDAR
VERSION:2.0
PRODID:-//NABMA - ECPv6.15.20//NONSGML v1.0//EN
CALSCALE:GREGORIAN
METHOD:PUBLISH
X-ORIGINAL-URL:https://nabma.com
X-WR-CALDESC:Events for NABMA
REFRESH-INTERVAL;VALUE=DURATION:PT1H
X-Robots-Tag:noindex
X-PUBLISHED-TTL:PT1H
BEGIN:VTIMEZONE
TZID:Europe/London
BEGIN:DAYLIGHT
TZOFFSETFROM:+0000
TZOFFSETTO:+0100
TZNAME:BST
DTSTART:20220327T010000
END:DAYLIGHT
BEGIN:STANDARD
TZOFFSETFROM:+0100
TZOFFSETTO:+0000
TZNAME:GMT
DTSTART:20221030T010000
END:STANDARD
BEGIN:DAYLIGHT
TZOFFSETFROM:+0000
TZOFFSETTO:+0100
TZNAME:BST
DTSTART:20230326T010000
END:DAYLIGHT
BEGIN:STANDARD
TZOFFSETFROM:+0100
TZOFFSETTO:+0000
TZNAME:GMT
DTSTART:20231029T010000
END:STANDARD
BEGIN:DAYLIGHT
TZOFFSETFROM:+0000
TZOFFSETTO:+0100
TZNAME:BST
DTSTART:20240331T010000
END:DAYLIGHT
BEGIN:STANDARD
TZOFFSETFROM:+0100
TZOFFSETTO:+0000
TZNAME:GMT
DTSTART:20241027T010000
END:STANDARD
END:VTIMEZONE
BEGIN:VEVENT
DTSTART;TZID=Europe/London:20230801T140000
DTEND;TZID=Europe/London:20230801T150000
DTSTAMP:20260423T112849
CREATED:20230725T084719Z
LAST-MODIFIED:20230725T084719Z
UID:34460-1690898400-1690902000@nabma.com
SUMMARY:Let's Talk Basecamp
DESCRIPTION:NABMA Basecamp has proven to be one of the most popular and well used of NABMA services. \nAs NABMA members you set the topics and lead the discussions. Recent subjects have been varied from operational to policy matters. \nWe are conscious that not everyone\, particularly new NABMA members\, may understand Basecamp and how it works and\, importantly\, how you can regulate posts to your inbox. \nWe have therefore set up an open zoom session for Tuesday 1 August 2023 at 14.00 for an informal discussion of interested NABMA members. \nNABMA appointed Chris Cotton\, a very experienced market professional\, as our Basecamp moderator and we believe that the time is now right to reflect on how Basecamp is used\, who uses it and why\, and whether it needs a few tweaks. \nThe aim of the session is to talk with Chris Cotton and also Ian Holmes\, the NABMA Media and Technical Support Consultant looking at: \nAn introduction as to why Basecamp was set up?\nHow to use it and get maximum value?\nPost covid\, does it need to change\, if so why and how and what would you want from this important NABMA service?\nIf you would like to share in this one hour session then please register – https://us02web.zoom.us/meeting/register/tZUoduGuqzojGtJ80hTbXU1xLi7OLPBqrHIZ
URL:https://nabma.com/event/lets-talk-basecamp/
LOCATION:Virtual Event for Members
CATEGORIES:Virtual Meeting
ATTACH;FMTTYPE=image/jpeg:https://nabma.com/version2020/wp-content/uploads/2023/07/Basecamp-1-1-scaled.jpg
END:VEVENT
END:VCALENDAR