BEGIN:VCALENDAR
VERSION:2.0
PRODID:-//NABMA - ECPv6.15.20//NONSGML v1.0//EN
CALSCALE:GREGORIAN
METHOD:PUBLISH
X-WR-CALNAME:NABMA
X-ORIGINAL-URL:https://nabma.com
X-WR-CALDESC:Events for NABMA
REFRESH-INTERVAL;VALUE=DURATION:PT1H
X-Robots-Tag:noindex
X-PUBLISHED-TTL:PT1H
BEGIN:VTIMEZONE
TZID:Europe/London
BEGIN:DAYLIGHT
TZOFFSETFROM:+0000
TZOFFSETTO:+0100
TZNAME:BST
DTSTART:20250330T010000
END:DAYLIGHT
BEGIN:STANDARD
TZOFFSETFROM:+0100
TZOFFSETTO:+0000
TZNAME:GMT
DTSTART:20251026T010000
END:STANDARD
BEGIN:DAYLIGHT
TZOFFSETFROM:+0000
TZOFFSETTO:+0100
TZNAME:BST
DTSTART:20260329T010000
END:DAYLIGHT
BEGIN:STANDARD
TZOFFSETFROM:+0100
TZOFFSETTO:+0000
TZNAME:GMT
DTSTART:20261025T010000
END:STANDARD
BEGIN:DAYLIGHT
TZOFFSETFROM:+0000
TZOFFSETTO:+0100
TZNAME:BST
DTSTART:20270328T010000
END:DAYLIGHT
BEGIN:STANDARD
TZOFFSETFROM:+0100
TZOFFSETTO:+0000
TZNAME:GMT
DTSTART:20271031T010000
END:STANDARD
END:VTIMEZONE
BEGIN:VEVENT
DTSTART;TZID=Europe/London:20260630T103000
DTEND;TZID=Europe/London:20260630T150000
DTSTAMP:20260421T174133
CREATED:20260421T120057Z
LAST-MODIFIED:20260421T123145Z
UID:40553-1782815400-1782831600@nabma.com
SUMMARY:NABMA/SLCC Study Visit 2026
DESCRIPTION:NABMA and the Society of Local Council Clerks (SLCC) invite members to register their interest in an upcoming study visit to Shrewsbury on Tuesday 30 June from 10:30. This free event will take place across the town centre and its award-winning market\, with places allocated based on demand. \nHosted with support from Shrewsbury Town Council and Town Clerk Helen Ball\, the visit offers a valuable opportunity to explore how Shrewsbury has successfully repositioned its town centre. Delegates will gain insight into the multi-award-winning Market Hall\, widely recognised for its role in driving footfall\, supporting local enterprise\, and enhancing the town’s appeal as a destination. \nThe programme will include a strategic welcome\, a guided Market Hall tour with trader engagement\, a town centre walkabout to understand wider economic impact\, and a session on governance and devolution\, including Shrewsbury’s experience of service transfer. There will also be opportunities for discussion and knowledge exchange throughout the day. \nThis study tour is ideal for those interested in market management\, town centre regeneration\, and the evolving role of local councils. \nTo express your interest\, please fill the below form by Friday 8 May. \n\n                    NABMA/SLCC Shrewsbury Study Visit 2026First NameLast NameEmailLocal Authority and / or Market Name Exclusively for NABMA Members. Check this box to confirm you are a NABMA Member. Confirm Booking
URL:https://nabma.com/event/nabma-slcc-study-visit-2026/
LOCATION:Shrewsbury Market\, Shrewsbury Market Hall\, Claremont St\, Shrewsbury\, SY1 1HQ\, United Kingdom
CATEGORIES:Market Event
ATTACH;FMTTYPE=image/png:https://nabma.com/version2020/wp-content/uploads/2026/04/Shrewsbury-Study-Tour-scaled.png
END:VEVENT
BEGIN:VEVENT
DTSTART;TZID=Europe/London:20260929T100000
DTEND;TZID=Europe/London:20260930T150000
DTSTAMP:20260421T174133
CREATED:20251030T082701Z
LAST-MODIFIED:20260408T094129Z
UID:40071-1790676000-1790780400@nabma.com
SUMMARY:Annual Conference 2026
DESCRIPTION:NABMA Annual Conference will be held at the Majestic Hotel\, Harrogate on the 29th and 30th of September 2026. \nWhen Tradition Meets Tomorrow \nA huge thank you to Vitabri who are again generously supporting us as headline conference sponsor. \nThis is the leading markets conference of the year and we look forward to welcoming new and returning colleagues. Even better we are holding delegate fees for the third year. \nOur theme enables the conference to look at markets past\, present and future and their ever increasing importance and influence in their communities. We will look at the challenges\, threats and opportunities for the months to come. \nImportantly\, with our NABMA Awards 2026 we will recognise and celebrate the markets and market people making a difference in the industry we are all proud to represent. \nDownload the Invitation Here\n \nIt’s never too early to book\, make sure you are part of NABMA Harrogate 2026.\n\n                    NABMA Conference Sep 2026First NameLast NameEmailLocal Authority and / or Market NameAre you a NABMA Member? Yes NoSelect a Package Full Conference Package Tuesday Day Delegate Wednesday Day Delegate Gala DinnerWe are only able to take online bookings for NABMA Members. For rates for non NABMA members please contact NABMA direct. 01691 680713 | info@nabma.com Full Conference – AGM and Conference\, lunches\, receptions\, welcome buffet and Gala Awards Dinner (£350 + VAT = £420)Cost: £420.00Number of Member DelegatesDelegate 1: First NameDelegate 1: Last NameDelegate 1 EmailDelegate 2: First NameDelegate 2: Last NameDelegate 2 EmailDelegate 3: First NameDelegate 3: Last NameDelegate 3 EmailDelegate 4: First NameDelegate 4: Last NameDelegate 4 EmailDelegate 5: First NameDelegate 5: Last NameDelegate 5 EmailTuesday Conference only plus lunch (£150 + VAT = £180)Cost: £180.00Number of Member DelegatesDelegate 1: First NameDelegate 1: Last NameDelegate 1 EmailDelegate 2: First NameDelegate 2: Last NameDelegate 2 EmailDelegate 3: First NameDelegate 3: Last NameDelegate 3 EmailDelegate 4: First NameDelegate 4: Last NameDelegate 4 EmailDelegate 5: First NameDelegate 5: Last NameDelegate 5 EmailWednesday Conference only plus lunch (£100 + VAT = £120)Cost: £120.00Number of Member DelegatesDelegate 1: First NameDelegate 1: Last NameDelegate 1 EmailDelegate 2: First NameDelegate 2: Last NameDelegate 2 EmailDelegate 3: First NameDelegate 3: Last NameDelegate 3 EmailDelegate 4: First NameDelegate 4: Last NameDelegate 4 EmailDelegate 5: First NameDelegate 5: Last NameDelegate 5 EmailGala Dinner Ticket (£75 + VAT = £90)Cost: £90.00Number of Member DelegatesDelegate 1: First NameDelegate 1: Last NameDelegate 1 EmailDelegate 2: First NameDelegate 2: Last NameDelegate 2 EmailDelegate 3: First NameDelegate 3: Last NameDelegate 3 EmailDelegate 4: First NameDelegate 4: Last NameDelegate 4 EmailDelegate 5: First NameDelegate 5: Last NameDelegate 5 EmailWhich day(s) are you attending? Full Package Single Day - Tuesday Single Day - WednesdayAre you a NABMA Member? Yes NoAre you booking individual days or as a package? Full Package Single Day - Tuesday Single Day - WednesdayNo payment items has been selected yetSelect Payment Method Online Now by Credit or Debit Card - Pay securely with Card (Stripe) By Invoice per the instructions belowOnline Now by Credit or Debit Card - Pay securely with Card (Stripe)Information for Invoicing (Address\, Additional Instructions) - Invoices will be sent for all bookings.Any extra notes/comments.Purchase Order Number (Enter "None" if not required)Confirm Booking
URL:https://nabma.com/event/annual-conference-2026/
LOCATION:DoubleTree by Hilton Harrogate Majestic Hotel & Spa\, Ripon Road\, Harrogate\, Yorkshire\, HG1 2HU\, United Kingdom
CATEGORIES:Conference
ATTACH;FMTTYPE=image/png:https://nabma.com/version2020/wp-content/uploads/2025/10/NABMA-Conf-Sep2026-scaled.png
END:VEVENT
END:VCALENDAR