BEGIN:VCALENDAR
VERSION:2.0
PRODID:-//NABMA - ECPv6.15.20//NONSGML v1.0//EN
CALSCALE:GREGORIAN
METHOD:PUBLISH
X-WR-CALNAME:NABMA
X-ORIGINAL-URL:https://nabma.com
X-WR-CALDESC:Events for NABMA
REFRESH-INTERVAL;VALUE=DURATION:PT1H
X-Robots-Tag:noindex
X-PUBLISHED-TTL:PT1H
BEGIN:VTIMEZONE
TZID:Europe/London
BEGIN:DAYLIGHT
TZOFFSETFROM:+0000
TZOFFSETTO:+0100
TZNAME:BST
DTSTART:20230326T010000
END:DAYLIGHT
BEGIN:STANDARD
TZOFFSETFROM:+0100
TZOFFSETTO:+0000
TZNAME:GMT
DTSTART:20231029T010000
END:STANDARD
BEGIN:DAYLIGHT
TZOFFSETFROM:+0000
TZOFFSETTO:+0100
TZNAME:BST
DTSTART:20240331T010000
END:DAYLIGHT
BEGIN:STANDARD
TZOFFSETFROM:+0100
TZOFFSETTO:+0000
TZNAME:GMT
DTSTART:20241027T010000
END:STANDARD
BEGIN:DAYLIGHT
TZOFFSETFROM:+0000
TZOFFSETTO:+0100
TZNAME:BST
DTSTART:20250330T010000
END:DAYLIGHT
BEGIN:STANDARD
TZOFFSETFROM:+0100
TZOFFSETTO:+0000
TZNAME:GMT
DTSTART:20251026T010000
END:STANDARD
END:VTIMEZONE
BEGIN:VEVENT
DTSTART;TZID=Europe/London:20240125T100000
DTEND;TZID=Europe/London:20240125T153000
DTSTAMP:20260422T081911
CREATED:20231010T121317Z
LAST-MODIFIED:20231026T140516Z
UID:36206-1706176800-1706196600@nabma.com
SUMMARY:One Day Conference 2024
DESCRIPTION:NABMA Launches January Conference 2024 \nWe are delighted to announce the details for our ever popular New Year Conference to be held on Thursday 25 January 2024. \nThe theme of the conference is ‘Markets at the Crossroads’. We will also announce the Great British Market Awards 2024. \nConference Invitation Jan 2024\nDownload the PDF here \nAs a reminder\, our October conference highlighted the very different picture being experienced by many markets within their local communities. For some there is blue sky. Since the pandemic we have seen certain markets benefit as part of some £127 million of government support. \nThe government has recently announced it is investing £1.1 billion into 55 towns and establishing a new Towns Taskforce\, reporting directly to the Prime Minister. But for many towns and their markets then they are not receiving any of this help. So\, what is their future? \nThis varied position has led to the theme of ‘Markets at the Crossroads’ being the focus for our highly popular January one day conference that again returns to Birmingham. \nOnce again we are grateful to Blachere Illumination for their continuing sponsorship of this\, the first main markets event of a  New Year. \nAfter the success of recent events we are again returning to the very popular Burlington Hotel immediately adjacent to Birmingham New Street Station. \nPlease book early and we hope to see you in Birmingham. \n\n                    NABMA Conference 25 Jan 2024First NameLast NameEmailLocal Authority and / or Market NameAre you a NABMA\, ATCM or NMTF Member? Yes NoConference Delegate (NABMA Member) (£175 + VAT = £210)Cost: £210.003 Conference Delegates (NABMA Member) (Special Discount £450 + VAT = £540)Cost: £540.004 Conference Delegates (NABMA Member) (Special Discount £600 + VAT = £720)Cost: £720.005 Conference Delegates (NABMA Member) (Special Discount £750 + VAT = £900)Cost: £900.00Number of NABMA DelegatesDelegate 1: First NameDelegate 1: Last NameDelegate 2: First NameDelegate 2: Last NameDelegate 3: First NameDelegate 3: Last NameDelegate 4: First NameDelegate 4: Last NameDelegate 5: First NameDelegate 5: Last NameConference Delegate (Non NABMA Member) (£250 + VAT = £300)Cost: £300.00Number of Non-Member DelegatesDelegate 1: First NameDelegate 1: Last NameDelegate 2: First NameDelegate 2: Last NameDelegate 3: First NameDelegate 3: Last NameDelegate 4: First NameDelegate 4: Last NameDelegate 5: First NameDelegate 5: Last NameNo payment items has been selected yetSelect Payment Method - Our Debit / Credit Card Payments are processed by NABMA Online Now by Credit or Debit Card - Pay securely with Card (Stripe) By Invoice per the instructions belowOnline Now by Credit or Debit Card - Pay securely with Card (Stripe)Information for Invoicing (Address\, Additional Instructions) - Invoices will be sent for all bookings.Purchase Order Number (Enter "None" if not required)Confirm Booking
URL:https://nabma.com/event/one-day-conference-2024/
LOCATION:The Macdonald Burlington Hotel\, Burlington Arcade\, Birmingham\, B2 4JQ\, United Kingdom
CATEGORIES:Conference
ATTACH;FMTTYPE=image/jpeg:https://nabma.com/version2020/wp-content/uploads/2023/10/271360433-e1696939987346.jpg
END:VEVENT
END:VCALENDAR