BEGIN:VCALENDAR
VERSION:2.0
PRODID:-//NABMA - ECPv6.15.20//NONSGML v1.0//EN
CALSCALE:GREGORIAN
METHOD:PUBLISH
X-WR-CALNAME:NABMA
X-ORIGINAL-URL:https://nabma.com
X-WR-CALDESC:Events for NABMA
REFRESH-INTERVAL;VALUE=DURATION:PT1H
X-Robots-Tag:noindex
X-PUBLISHED-TTL:PT1H
BEGIN:VTIMEZONE
TZID:Europe/London
BEGIN:DAYLIGHT
TZOFFSETFROM:+0000
TZOFFSETTO:+0100
TZNAME:BST
DTSTART:20230326T010000
END:DAYLIGHT
BEGIN:STANDARD
TZOFFSETFROM:+0100
TZOFFSETTO:+0000
TZNAME:GMT
DTSTART:20231029T010000
END:STANDARD
BEGIN:DAYLIGHT
TZOFFSETFROM:+0000
TZOFFSETTO:+0100
TZNAME:BST
DTSTART:20240331T010000
END:DAYLIGHT
BEGIN:STANDARD
TZOFFSETFROM:+0100
TZOFFSETTO:+0000
TZNAME:GMT
DTSTART:20241027T010000
END:STANDARD
BEGIN:DAYLIGHT
TZOFFSETFROM:+0000
TZOFFSETTO:+0100
TZNAME:BST
DTSTART:20250330T010000
END:DAYLIGHT
BEGIN:STANDARD
TZOFFSETFROM:+0100
TZOFFSETTO:+0000
TZNAME:GMT
DTSTART:20251026T010000
END:STANDARD
END:VTIMEZONE
BEGIN:VEVENT
DTSTART;TZID=Europe/London:20240514T100000
DTEND;TZID=Europe/London:20240514T120000
DTSTAMP:20260421T215301
CREATED:20240326T105605Z
LAST-MODIFIED:20240326T105621Z
UID:37778-1715680800-1715688000@nabma.com
SUMMARY:Markets and the Legal Context
DESCRIPTION:Due to demand NABMA is arranging a further seminar on the topic of Markets and the Legal Context \nThis will be an online event from 10.00am until midday on Tuesday 14 May 2024.  \nThe cost to NABMA members is £50 plus vat \nBook Here \nThe seminar will be presented by Graham Wilson OBE\, the NABMA Legal and Policy Consultant and the joint editor of Pease\, Chitty and Cousins: Law of Markets and Fairs. \nThe seminar will cover the main legal framework of market law highlighting the history and the current provisions. There will be an opportunity to consider how case law and legislation impact on your local market situation. From examining what actually constitutes a market to establishing and operating a market the seminar will cover day to day management issues and relationships with traders and other stakeholders. \nWe will consider in particular how market powers have evolved and how they can be used in a practical way. We will also look at the relationship between local and District/Unitary Councils where they each share market powers. \nImportantly\, there will be time for you to raise your individual queries and get help in resolving issues that impact on the running of your market. \n\n                    Markets and the Legal Framework May 2024First NameLast NameEmailMarket / AuthorityIs your Market / Authority a NABMA Member? Yes NoEvent is charged at £50+VAT per delegatePrice: £60.00How Many Delegates?\nDelegate 2 First NameLast NameEmailDelegate 3 First NameLast NameEmailDelegate 4 First NameLast NameEmailDelegate 5 First NameLast NameEmailNo payment items has been selected yetChoose Payment Method Pay with Card (Stripe) By Invoice per the instructions belowPay with Card (Stripe)Information for Invoicing (Address\, Additional Instructions) - Invoices will be sent for all bookings.Purchase Order Number (Enter "None" if not required)Purchase
URL:https://nabma.com/event/markets-and-the-legal-context/
CATEGORIES:Virtual Meeting
ATTACH;FMTTYPE=image/jpeg:https://nabma.com/version2020/wp-content/uploads/2024/03/Markets-and-the-Legal-Context.jpg
END:VEVENT
BEGIN:VEVENT
DTSTART;VALUE=DATE:20240517
DTEND;VALUE=DATE:20240602
DTSTAMP:20260421T215302
CREATED:20240125T105009Z
LAST-MODIFIED:20240125T105603Z
UID:37150-1715904000-1717286399@nabma.com
SUMMARY:Love Your Local Market 2024
DESCRIPTION:The Love Your Local Market fortnight\, has now been embraced by over 24 countries worldwide. \nThe next Love Your Local Market will take place in the UK on Friday 17th May to Saturday 1st June 2024. \n\n\n\n\nAs well as a celebration of markets\, one of the key aims of the campaign is to offer opportunities for new businesses to try market trading for free or at a heavily discounted rate. \nRegistration for the 2024 campaign begins on Wednesday 14th February 2024
URL:https://nabma.com/event/love-your-local-market-2024/
CATEGORIES:Campaign
ATTACH;FMTTYPE=image/jpeg:https://nabma.com/version2020/wp-content/uploads/2023/06/LYLM2023-scaled.jpg
END:VEVENT
END:VCALENDAR